BEGIN:VCALENDAR
VERSION:2.0
PRODID:icalendar-ruby
CALSCALE:GREGORIAN
BEGIN:VEVENT
DTSTAMP:20210120T022057Z
UID:194c3cac-adcd-4592-9000-ac22127a6b69
DTSTART;VALUE=DATE:20190825
DESCRIPTION:Property ID# 459256\, Locatoin: On site (unless sold prior)\, T
 ime: 3:00PM
SUMMARY:Auction for 
END:VEVENT
END:VCALENDAR
