BEGIN:VCALENDAR
VERSION:2.0
PRODID:icalendar-ruby
CALSCALE:GREGORIAN
BEGIN:VEVENT
DTSTAMP:20210120T022055Z
UID:ba9eb4ab-ab1d-43f8-b07e-720ffd504d68
DTSTART;VALUE=DATE:20190817
DESCRIPTION:Property ID# 459364\, Locatoin: On site (unless sold prior)\, T
 ime: 1:00PM
SUMMARY:Auction for 
END:VEVENT
END:VCALENDAR
