BEGIN:VCALENDAR
VERSION:2.0
PRODID:icalendar-ruby
CALSCALE:GREGORIAN
BEGIN:VEVENT
DTSTAMP:20210120T022144Z
UID:b515224e-b460-4158-bf85-2352cae44dcf
DTSTART;VALUE=DATE:20190901
DESCRIPTION:Property ID# 459405\, Locatoin: On Site\, Time: 2:00PM
SUMMARY:Auction for 
END:VEVENT
END:VCALENDAR
