BEGIN:VCALENDAR
VERSION:2.0
PRODID:icalendar-ruby
CALSCALE:GREGORIAN
BEGIN:VEVENT
DTSTAMP:20210121T192949Z
UID:950e3619-5a2c-4f79-9634-05dac7b21479
DTSTART;VALUE=DATE:20190929
DESCRIPTION:Property ID# 461612\, Locatoin: On site (unless sold prior)\, T
 ime: 12:00PM
SUMMARY:Auction for 
END:VEVENT
END:VCALENDAR
