BEGIN:VCALENDAR
VERSION:2.0
PRODID:icalendar-ruby
CALSCALE:GREGORIAN
BEGIN:VEVENT
DTSTAMP:20210120T022141Z
UID:a60f6645-b8ff-4fde-a546-f982e4e093c8
DTSTART;VALUE=DATE:20191103
DESCRIPTION:Property ID# 463959\, Locatoin: On Site\, Time: 11:00AM
SUMMARY:Auction for 
END:VEVENT
END:VCALENDAR
