BEGIN:VCALENDAR
VERSION:2.0
PRODID:icalendar-ruby
CALSCALE:GREGORIAN
BEGIN:VEVENT
DTSTAMP:20210120T022139Z
UID:a9fe14e9-45f9-47f1-80b3-b831817fbccf
DTSTART;VALUE=DATE:20191110
DESCRIPTION:Property ID# 464669\, Time: 12:00PM
SUMMARY:Auction for 
END:VEVENT
END:VCALENDAR
