BEGIN:VCALENDAR
VERSION:2.0
PRODID:icalendar-ruby
CALSCALE:GREGORIAN
BEGIN:VEVENT
DTSTAMP:20210120T022050Z
UID:c8060b67-2656-4426-9798-79931ca1dc5f
DTSTART;VALUE=DATE:20191124
DESCRIPTION:Property ID# 465823\, Locatoin: On site (unless sold prior)\, T
 ime: 4:00PM
SUMMARY:Auction for 
END:VEVENT
END:VCALENDAR
