BEGIN:VCALENDAR
VERSION:2.0
PRODID:icalendar-ruby
CALSCALE:GREGORIAN
BEGIN:VEVENT
DTSTAMP:20210120T022137Z
UID:614bfd47-efd7-47af-b4e8-fefd160cc5ba
DTSTART;VALUE=DATE:20191201
DESCRIPTION:Property ID# 466917\, Locatoin: On Site\, Time: 10:00AM
SUMMARY:Auction for 
END:VEVENT
END:VCALENDAR
