BEGIN:VCALENDAR
VERSION:2.0
PRODID:icalendar-ruby
CALSCALE:GREGORIAN
BEGIN:VEVENT
DTSTAMP:20210120T022136Z
UID:dee344ee-d083-4db2-b10c-601b0ea2e18b
DTSTART;VALUE=DATE:20191222
DESCRIPTION:Property ID# 468811\, Locatoin: On Site\, Time: 12:00PM
SUMMARY:Auction for 
END:VEVENT
END:VCALENDAR
