BEGIN:VCALENDAR
VERSION:2.0
PRODID:icalendar-ruby
CALSCALE:GREGORIAN
BEGIN:VEVENT
DTSTAMP:20210120T022134Z
UID:803d9e77-79c2-41a7-afca-887adcff84c9
DTSTART;VALUE=DATE:20200216
DESCRIPTION:Property ID# 471002\, Locatoin: On Site\, Time: 10:00AM
SUMMARY:Auction for 
END:VEVENT
END:VCALENDAR
