BEGIN:VCALENDAR
VERSION:2.0
PRODID:icalendar-ruby
CALSCALE:GREGORIAN
BEGIN:VEVENT
DTSTAMP:20210120T022049Z
UID:2fb6adcb-b02f-4d5e-afad-e6e43814172a
DTSTART;VALUE=DATE:20200220
DESCRIPTION:Property ID# 471312\, Locatoin: 6.30pm\, In Rooms\, 128 Hurstme
 re Road\, Takapuna (unless sold prior)\, Time: 12:00PM
SUMMARY:Auction for 
END:VEVENT
END:VCALENDAR
