BEGIN:VCALENDAR
VERSION:2.0
PRODID:icalendar-ruby
CALSCALE:GREGORIAN
BEGIN:VEVENT
DTSTAMP:20210120T022129Z
UID:4be41f1d-d256-4364-9788-4f2176942566
DTSTART;VALUE=DATE:20200308
DESCRIPTION:Property ID# 472730\, Locatoin: On Site\, Time: 5:00PM
SUMMARY:Auction for 
END:VEVENT
END:VCALENDAR
