BEGIN:VCALENDAR
VERSION:2.0
PRODID:icalendar-ruby
CALSCALE:GREGORIAN
BEGIN:VEVENT
DTSTAMP:20210121T192848Z
UID:05dee3ae-5189-431e-a08d-43c13bcc1caa
DTSTART;VALUE=DATE:20200310
DESCRIPTION:Property ID# 473215\, Locatoin: On Site \, Time: 6:30PM
SUMMARY:Auction for 
END:VEVENT
END:VCALENDAR
