BEGIN:VCALENDAR
VERSION:2.0
PRODID:icalendar-ruby
CALSCALE:GREGORIAN
BEGIN:VEVENT
DTSTAMP:20210121T192846Z
UID:f1269d72-2619-43a9-a9ee-bbc1d142b0d6
DTSTART;VALUE=DATE:20200321
DESCRIPTION:Property ID# 474072\, Locatoin: On Site (Unless Sold Prior)\, T
 ime: 12:00PM
SUMMARY:Auction for 
END:VEVENT
END:VCALENDAR
