BEGIN:VCALENDAR
VERSION:2.0
PRODID:icalendar-ruby
CALSCALE:GREGORIAN
BEGIN:VEVENT
DTSTAMP:20210121T192943Z
UID:6c7ede7f-0abd-42e8-a0a7-04354b70ef89
DTSTART;VALUE=DATE:20200315
DESCRIPTION:Property ID# 474199\, Locatoin: On site (unless sold prior)\, T
 ime: 11:00AM
SUMMARY:Auction for 
END:VEVENT
END:VCALENDAR
