BEGIN:VCALENDAR
VERSION:2.0
PRODID:icalendar-ruby
CALSCALE:GREGORIAN
BEGIN:VEVENT
DTSTAMP:20210120T022126Z
UID:dfc60fa4-7bfc-4d74-a2f0-520d5e15480e
DTSTART;VALUE=DATE:20200402
DESCRIPTION:Property ID# 475020\, Locatoin: On Site \, Time: 1:00PM
SUMMARY:Auction for 
END:VEVENT
END:VCALENDAR
