BEGIN:VCALENDAR
VERSION:2.0
PRODID:icalendar-ruby
CALSCALE:GREGORIAN
BEGIN:VEVENT
DTSTAMP:20210120T022045Z
UID:c29f1b5a-a841-40d0-9aea-98b9f6cf86ba
DTSTART;VALUE=DATE:20200329
DESCRIPTION:Property ID# 475605\, Locatoin: On site (unless sold prior)\, T
 ime: 5:00PM
SUMMARY:Auction for 
END:VEVENT
END:VCALENDAR
