BEGIN:VCALENDAR
VERSION:2.0
PRODID:icalendar-ruby
CALSCALE:GREGORIAN
BEGIN:VEVENT
DTSTAMP:20210120T022128Z
UID:10508174-c91e-4adc-a12f-47f193ad2414
DTSTART;VALUE=DATE:20200322
DESCRIPTION:Property ID# 475607\, Locatoin: On Site\, Time: 1:00PM
SUMMARY:Auction for 
END:VEVENT
END:VCALENDAR
