BEGIN:VCALENDAR
VERSION:2.0
PRODID:icalendar-ruby
CALSCALE:GREGORIAN
BEGIN:VEVENT
DTSTAMP:20210121T192958Z
UID:d7f89b39-772c-43c3-9ebf-bbdf85411760
DTSTART;VALUE=DATE:20200408
DESCRIPTION:Property ID# 476742\, Locatoin: In Ray White rooms\, 66 Great S
 outh Road\, Papatoetoe 2025\, Time: 12:00PM
SUMMARY:Auction for 
END:VEVENT
END:VCALENDAR
