BEGIN:VCALENDAR
VERSION:2.0
PRODID:icalendar-ruby
CALSCALE:GREGORIAN
BEGIN:VEVENT
DTSTAMP:20210121T192940Z
UID:699784e3-99d4-481c-b31e-0f157db2d87a
DTSTART;VALUE=DATE:20200524
DESCRIPTION:Property ID# 476948\, Locatoin: On site (unless sold prior)\, T
 ime: 11:00AM
SUMMARY:Auction for 
END:VEVENT
END:VCALENDAR
