BEGIN:VCALENDAR
VERSION:2.0
PRODID:icalendar-ruby
CALSCALE:GREGORIAN
BEGIN:VEVENT
DTSTAMP:20210120T022124Z
UID:6687d671-c8fc-41b1-b099-43a63ce63a64
DTSTART;VALUE=DATE:20200611
DESCRIPTION:Property ID# 480462\, Locatoin: In Rooms\, 128 Hurstmere Road\,
  Takapuna\, Time: 6:30PM
SUMMARY:Auction for 
END:VEVENT
END:VCALENDAR
