BEGIN:VCALENDAR
VERSION:2.0
PRODID:icalendar-ruby
CALSCALE:GREGORIAN
BEGIN:VEVENT
DTSTAMP:20210121T192938Z
UID:b9be68e9-279f-483f-a2b9-546065d30245
DTSTART;VALUE=DATE:20200628
DESCRIPTION:Property ID# 482768\, Locatoin: On Site\, Time: 3:00PM
SUMMARY:Auction for 
END:VEVENT
END:VCALENDAR
