BEGIN:VCALENDAR
VERSION:2.0
PRODID:icalendar-ruby
CALSCALE:GREGORIAN
BEGIN:VEVENT
DTSTAMP:20210120T022309Z
UID:53262d92-826a-40b9-92f3-c28d89cbfe2e
DTSTART;VALUE=DATE:20200723
DESCRIPTION:Property ID# 483822\, Time: 5:00PM
SUMMARY:Auction for 
END:VEVENT
END:VCALENDAR
