BEGIN:VCALENDAR
VERSION:2.0
PRODID:icalendar-ruby
CALSCALE:GREGORIAN
BEGIN:VEVENT
DTSTAMP:20210121T192845Z
UID:15e3eac4-20cc-4855-b940-f7cfeed7518e
DTSTART;VALUE=DATE:20200725
DESCRIPTION:Property ID# 483823\, Locatoin: On Site (Unless Sold Prior)\, T
 ime: 12:00PM
SUMMARY:Auction for 
END:VEVENT
END:VCALENDAR
