BEGIN:VCALENDAR
VERSION:2.0
PRODID:icalendar-ruby
CALSCALE:GREGORIAN
BEGIN:VEVENT
DTSTAMP:20210121T192843Z
UID:f3167ff9-b449-43ce-8840-80b97e3d74d0
DTSTART;VALUE=DATE:20200801
DESCRIPTION:Property ID# 484276\, Locatoin: On Site (Unless Sold Prior)\, T
 ime: 2:00PM
SUMMARY:Auction for 
END:VEVENT
END:VCALENDAR
