BEGIN:VCALENDAR
VERSION:2.0
PRODID:icalendar-ruby
CALSCALE:GREGORIAN
BEGIN:VEVENT
DTSTAMP:20210121T192842Z
UID:e65eef5e-c8fb-4474-8e38-6e955d82f918
DTSTART;VALUE=DATE:20200808
DESCRIPTION:Property ID# 484280\, Locatoin: On Site (Unless Sold Prior)\, T
 ime: 11:00AM
SUMMARY:Auction for 
END:VEVENT
END:VCALENDAR
