BEGIN:VCALENDAR
VERSION:2.0
PRODID:icalendar-ruby
CALSCALE:GREGORIAN
BEGIN:VEVENT
DTSTAMP:20210120T022040Z
UID:25d2f8fb-5b7f-4dc8-90a6-cd3527b40268
DTSTART;VALUE=DATE:20200816
DESCRIPTION:Property ID# 486050\, Locatoin: On site (unless sold prior)\, T
 ime: 2:00PM
SUMMARY:Auction for 
END:VEVENT
END:VCALENDAR
