BEGIN:VCALENDAR
VERSION:2.0
PRODID:icalendar-ruby
CALSCALE:GREGORIAN
BEGIN:VEVENT
DTSTAMP:20210120T022121Z
UID:e1acc50e-c260-49a2-bf03-d612c400d76a
DTSTART;VALUE=DATE:20200920
DESCRIPTION:Property ID# 486974\, Locatoin: On site\, Time: 3:00PM
SUMMARY:Auction for 
END:VEVENT
END:VCALENDAR
