BEGIN:VCALENDAR
VERSION:2.0
PRODID:icalendar-ruby
CALSCALE:GREGORIAN
BEGIN:VEVENT
DTSTAMP:20210120T022029Z
UID:4f85b48a-8279-4946-8e7b-03262b9adeb1
DTSTART;VALUE=DATE:20201213
DESCRIPTION:Property ID# 488916\, Locatoin: On Site (unless sold prior)\, T
 ime: 2:00PM
SUMMARY:Auction for 
END:VEVENT
END:VCALENDAR
