BEGIN:VCALENDAR
VERSION:2.0
PRODID:icalendar-ruby
CALSCALE:GREGORIAN
BEGIN:VEVENT
DTSTAMP:20210121T192858Z
UID:c27253a8-819a-47fd-a0a6-6f786d65f06e
DTSTART;VALUE=DATE:20200926
DESCRIPTION:Property ID# 489213\, Locatoin: On Site\, Time: 1:30PM
SUMMARY:Auction for 
END:VEVENT
END:VCALENDAR
