BEGIN:VCALENDAR
VERSION:2.0
PRODID:icalendar-ruby
CALSCALE:GREGORIAN
BEGIN:VEVENT
DTSTAMP:20210120T022106Z
UID:e431cb58-dce4-432e-8a91-fa5ea574d645
DTSTART;VALUE=DATE:20201014
DESCRIPTION:Property ID# 489532\, Time: 4:00PM
SUMMARY:Auction for 
END:VEVENT
END:VCALENDAR
