BEGIN:VCALENDAR
VERSION:2.0
PRODID:icalendar-ruby
CALSCALE:GREGORIAN
BEGIN:VEVENT
DTSTAMP:20210121T192935Z
UID:94f1c9c3-c799-455e-b499-dd5e7bb00635
DTSTART;VALUE=DATE:20201004
DESCRIPTION:Property ID# 489803\, Locatoin: On site (unless sold prior)\, T
 ime: 4:00PM
SUMMARY:Auction for 
END:VEVENT
END:VCALENDAR
