BEGIN:VCALENDAR
VERSION:2.0
PRODID:icalendar-ruby
CALSCALE:GREGORIAN
BEGIN:VEVENT
DTSTAMP:20210120T022104Z
UID:1381cffa-55d1-4a7b-ac3b-d166d2e19b9a
DTSTART;VALUE=DATE:20201015
DESCRIPTION:Property ID# 490186\, Locatoin: Omaha- Unless Sold Prior\, Time
 : 4:00PM
SUMMARY:Auction for 
END:VEVENT
END:VCALENDAR
