BEGIN:VCALENDAR
VERSION:2.0
PRODID:icalendar-ruby
CALSCALE:GREGORIAN
BEGIN:VEVENT
DTSTAMP:20210121T192840Z
UID:b289b4f2-d0e3-4401-b1f5-8aeba5a4cdb9
DTSTART;VALUE=DATE:20201005
DESCRIPTION:Property ID# 490592\, Locatoin: On Site \, Time: 6:30PM
SUMMARY:Auction for 
END:VEVENT
END:VCALENDAR
