BEGIN:VCALENDAR
VERSION:2.0
PRODID:icalendar-ruby
CALSCALE:GREGORIAN
BEGIN:VEVENT
DTSTAMP:20210120T022150Z
UID:0ab57379-52fe-4248-b0fb-1d4ece2a5ec6
DTSTART;VALUE=DATE:20201006
DESCRIPTION:Property ID# 490644\, Locatoin: Inrooms\, 13/77 St. George Stre
 et\, Papatoetoe\, Time: 6:00PM
SUMMARY:Auction for 
END:VEVENT
END:VCALENDAR
