BEGIN:VCALENDAR
VERSION:2.0
PRODID:icalendar-ruby
CALSCALE:GREGORIAN
BEGIN:VEVENT
DTSTAMP:20210121T192856Z
UID:817deed8-944d-4ce5-b06f-8a3f703bcb83
DTSTART;VALUE=DATE:20201205
DESCRIPTION:Property ID# 490818\, Locatoin: On Site\, Time: 2:30PM
SUMMARY:Auction for 
END:VEVENT
END:VCALENDAR
