BEGIN:VCALENDAR
VERSION:2.0
PRODID:icalendar-ruby
CALSCALE:GREGORIAN
BEGIN:VEVENT
DTSTAMP:20210121T192953Z
UID:2b5ac982-80fd-488e-85c2-0062a323872e
DTSTART;VALUE=DATE:20201022
DESCRIPTION:Property ID# 491105\, Locatoin: Ray White Manukau \, Time: 6:00
 PM
SUMMARY:Auction for 
END:VEVENT
END:VCALENDAR
