BEGIN:VCALENDAR
VERSION:2.0
PRODID:icalendar-ruby
CALSCALE:GREGORIAN
BEGIN:VEVENT
DTSTAMP:20210120T022119Z
UID:0153fa92-dd80-4e3a-b110-f9be3393ef90
DTSTART;VALUE=DATE:20201101
DESCRIPTION:Property ID# 491145\, Locatoin: On Site\, Time: 4:00PM
SUMMARY:Auction for 
END:VEVENT
END:VCALENDAR
