BEGIN:VCALENDAR
VERSION:2.0
PRODID:icalendar-ruby
CALSCALE:GREGORIAN
BEGIN:VEVENT
DTSTAMP:20210120T022538Z
UID:f3c0c2ba-91da-46e1-987b-47c54cf7806d
DTSTART;VALUE=DATE:20201104
DESCRIPTION:Property ID# 492164\, Time: 6:00PM
SUMMARY:Auction for 
END:VEVENT
END:VCALENDAR
