BEGIN:VCALENDAR
VERSION:2.0
PRODID:icalendar-ruby
CALSCALE:GREGORIAN
BEGIN:VEVENT
DTSTAMP:20210121T192839Z
UID:8f89ec11-59c5-4c02-bad4-58a194342b70
DTSTART;VALUE=DATE:20201021
DESCRIPTION:Property ID# 492173\, Locatoin: On Site \, Time: 7:30PM
SUMMARY:Auction for 
END:VEVENT
END:VCALENDAR
