BEGIN:VCALENDAR
VERSION:2.0
PRODID:icalendar-ruby
CALSCALE:GREGORIAN
BEGIN:VEVENT
DTSTAMP:20210120T022026Z
UID:550f8531-2533-4c80-8d3c-02c0bf3abc1d
DTSTART;VALUE=DATE:20201112
DESCRIPTION:Property ID# 492444\, Time: 4:00PM
SUMMARY:Auction for 
END:VEVENT
END:VCALENDAR
