BEGIN:VCALENDAR
VERSION:2.0
PRODID:icalendar-ruby
CALSCALE:GREGORIAN
BEGIN:VEVENT
DTSTAMP:20210120T022037Z
UID:592aad3f-80dc-439a-9d60-3a2e9e5575d6
DTSTART;VALUE=DATE:20201115
DESCRIPTION:Property ID# 493137\, Locatoin: On site (unless sold prior)\, T
 ime: 4:00PM
SUMMARY:Auction for 
END:VEVENT
END:VCALENDAR
