BEGIN:VCALENDAR
VERSION:2.0
PRODID:icalendar-ruby
CALSCALE:GREGORIAN
BEGIN:VEVENT
DTSTAMP:20210121T192837Z
UID:f1cd915c-dc72-4087-be50-7f3d7dfb5f1e
DTSTART;VALUE=DATE:20201114
DESCRIPTION:Property ID# 493285\, Locatoin: On Site\, Time: 10:00AM
SUMMARY:Auction for 
END:VEVENT
END:VCALENDAR
