BEGIN:VCALENDAR
VERSION:2.0
PRODID:icalendar-ruby
CALSCALE:GREGORIAN
BEGIN:VEVENT
DTSTAMP:20210120T022518Z
UID:8ad22fe8-723c-43bb-8c76-adc352c3cadc
DTSTART;VALUE=DATE:20201122
DESCRIPTION:Property ID# 494024\, Locatoin: Onsite at 2:30pm\, Time: 12:00P
 M
SUMMARY:Auction for 
END:VEVENT
END:VCALENDAR
