BEGIN:VCALENDAR
VERSION:2.0
PRODID:icalendar-ruby
CALSCALE:GREGORIAN
BEGIN:VEVENT
DTSTAMP:20210120T022118Z
UID:5f1eea37-51cc-4d47-ba95-ac0baeb4dbaa
DTSTART;VALUE=DATE:20201129
DESCRIPTION:Property ID# 494954\, Locatoin: On Site\, Time: 3:00PM
SUMMARY:Auction for 
END:VEVENT
END:VCALENDAR
