BEGIN:VCALENDAR
VERSION:2.0
PRODID:icalendar-ruby
CALSCALE:GREGORIAN
BEGIN:VEVENT
DTSTAMP:20210120T022101Z
UID:ca02b394-f47f-47d0-b542-569b229df6d1
DTSTART;VALUE=DATE:20201212
DESCRIPTION:Property ID# 495606\, Time: 4:30PM
SUMMARY:Auction for 
END:VEVENT
END:VCALENDAR
