BEGIN:VCALENDAR
VERSION:2.0
PRODID:icalendar-ruby
CALSCALE:GREGORIAN
BEGIN:VEVENT
DTSTAMP:20210120T022116Z
UID:e6689a1e-650f-409a-8107-9adecdcd7a9b
DTSTART;VALUE=DATE:20201125
DESCRIPTION:Property ID# 495690\, Locatoin: 128 Hurstmere Road\, Takapuna  
 In Rooms\, Time: 4:30PM
SUMMARY:Auction for 
END:VEVENT
END:VCALENDAR
