BEGIN:VCALENDAR
VERSION:2.0
PRODID:icalendar-ruby
CALSCALE:GREGORIAN
BEGIN:VEVENT
DTSTAMP:20210120T022112Z
UID:d4b4d161-66dd-4e3d-b131-5b987aa7b912
DTSTART;VALUE=DATE:20201209
DESCRIPTION:Property ID# 496093\, Time: 1:30PM
SUMMARY:Auction for 
END:VEVENT
END:VCALENDAR
