BEGIN:VCALENDAR
VERSION:2.0
PRODID:icalendar-ruby
CALSCALE:GREGORIAN
BEGIN:VEVENT
DTSTAMP:20210121T192915Z
UID:4944e4fb-7c68-4360-a579-e56885bb115b
DTSTART;VALUE=DATE:20201217
DESCRIPTION:Property ID# 497150\, Locatoin: LJ Hooker Papakura offices loca
 ted at 19 Broadway in Papakura\, Time: 12:00PM
SUMMARY:Auction for 
END:VEVENT
END:VCALENDAR
