BEGIN:VCALENDAR
VERSION:2.0
PRODID:icalendar-ruby
CALSCALE:GREGORIAN
BEGIN:VEVENT
DTSTAMP:20210121T192853Z
UID:2be4f4a4-8169-46ad-83dc-fe9bd3c6739e
DTSTART;VALUE=DATE:20201220
DESCRIPTION:Property ID# 497438\, Locatoin: On Site\, Time: 10:30AM
SUMMARY:Auction for 
END:VEVENT
END:VCALENDAR
